BEGIN:VCALENDAR
VERSION:2.0
PRODID:-//Priorité bien vieillir - Eric Simard - ECPv6.15.20//NONSGML v1.0//EN
CALSCALE:GREGORIAN
METHOD:PUBLISH
X-WR-CALNAME:Priorité bien vieillir - Eric Simard
X-ORIGINAL-URL:https://esimard.com
X-WR-CALDESC:Évènements pour Priorité bien vieillir - Eric Simard
REFRESH-INTERVAL;VALUE=DURATION:PT1H
X-Robots-Tag:noindex
X-PUBLISHED-TTL:PT1H
BEGIN:VTIMEZONE
TZID:America/Halifax
BEGIN:DAYLIGHT
TZOFFSETFROM:-0400
TZOFFSETTO:-0300
TZNAME:ADT
DTSTART:20220313T060000
END:DAYLIGHT
BEGIN:STANDARD
TZOFFSETFROM:-0300
TZOFFSETTO:-0400
TZNAME:AST
DTSTART:20221106T050000
END:STANDARD
BEGIN:DAYLIGHT
TZOFFSETFROM:-0400
TZOFFSETTO:-0300
TZNAME:ADT
DTSTART:20230312T060000
END:DAYLIGHT
BEGIN:STANDARD
TZOFFSETFROM:-0300
TZOFFSETTO:-0400
TZNAME:AST
DTSTART:20231105T050000
END:STANDARD
BEGIN:DAYLIGHT
TZOFFSETFROM:-0400
TZOFFSETTO:-0300
TZNAME:ADT
DTSTART:20240310T060000
END:DAYLIGHT
BEGIN:STANDARD
TZOFFSETFROM:-0300
TZOFFSETTO:-0400
TZNAME:AST
DTSTART:20241103T050000
END:STANDARD
END:VTIMEZONE
BEGIN:VEVENT
DTSTART;TZID=America/Halifax:20230928T190000
DTEND;TZID=America/Halifax:20230928T200000
DTSTAMP:20260424T072526
CREATED:20230729T195528Z
LAST-MODIFIED:20230729T195528Z
UID:8788-1695927600-1695931200@esimard.com
SUMMARY:Optimiser votre système immunitaire\, Eric Simard\, docteur en biologie et chercheur
DESCRIPTION:Le système immunitaire a beaucoup attiré l’attention au cours des dernières années. Il est responsable de la défense de l’organisme\, de nos risques d’infection\, mais aussi\, de l’inflammation\, des allergies\, d’une partie de la défense contre le cancer et des maladies auto-immunes comme l’arthrite rhumatoïde\, le psoriasis et la maladie de Crohn. Il a aussi une influence importante sur notre métabolisme principalement dû aux réactions inflammatoires. \nBien sûr\, plusieurs de nos habitudes de vie ont un impact sur le bon fonctionnement de votre système immunitaire. Avant tout\, la qualité du sommeil et la gestion du stress. La majorité d’entre nous a déjà vécu une période particulièrement épuisante ou stressante qui fut suivie d’une grippe\, d’un rhume ou d’un autre type d’infection. \nIl y a aussi l’alimentation. La saine alimentation\, riche en fibres et en polyphénols végétaux\, par une grande consommation de légumes\, de grains entiers et de noix\, favorise un microbiote sain et diversifié. Il est bien sûr aussi possible d’avoir recours aux probiotiques. Ces bonnes bactéries de notre intestin sont en équilibre permanent avec les fonctions du système immunitaire. Un mauvais microbiote\, contenant trop de mauvaises bactéries\, influence négativement les fonctions immunitaires et peut favoriser l’inflammation et l’augmentation des symptômes des maladies auto-immunes ou des allergies. Dans l’autre sens\, un système immunitaire débalancé\, par exemple par une mauvaise gestion du stress\, peut causer des problèmes de digestion et favoriser une mauvaise composition du microbiote. Cet équilibre est donc bidirectionnel. \nDurant cette conférence\, Eric Simard\, docteur en biologie et chercheur (www.esimard.com) donnera des explications sur le système immunitaire et plus particulièrement sur le rôle de la vitamine D\, u zinc\, des oméga-3\, des probiotiques et des extraits de plantes qui peuvent permettre d’optimiser ses fonctions.
URL:https://esimard.com/horaire/optimiser-votre-systeme-immunitaire-eric-simard-docteur-en-biologie-et-chercheur/
END:VEVENT
END:VCALENDAR