BEGIN:VCALENDAR
VERSION:2.0
PRODID:-//Priorité bien vieillir - Eric Simard - ECPv6.15.20//NONSGML v1.0//EN
CALSCALE:GREGORIAN
METHOD:PUBLISH
X-ORIGINAL-URL:https://esimard.com
X-WR-CALDESC:Évènements pour Priorité bien vieillir - Eric Simard
REFRESH-INTERVAL;VALUE=DURATION:PT1H
X-Robots-Tag:noindex
X-PUBLISHED-TTL:PT1H
BEGIN:VTIMEZONE
TZID:America/Halifax
BEGIN:DAYLIGHT
TZOFFSETFROM:-0400
TZOFFSETTO:-0300
TZNAME:ADT
DTSTART:20220313T060000
END:DAYLIGHT
BEGIN:STANDARD
TZOFFSETFROM:-0300
TZOFFSETTO:-0400
TZNAME:AST
DTSTART:20221106T050000
END:STANDARD
BEGIN:DAYLIGHT
TZOFFSETFROM:-0400
TZOFFSETTO:-0300
TZNAME:ADT
DTSTART:20230312T060000
END:DAYLIGHT
BEGIN:STANDARD
TZOFFSETFROM:-0300
TZOFFSETTO:-0400
TZNAME:AST
DTSTART:20231105T050000
END:STANDARD
BEGIN:DAYLIGHT
TZOFFSETFROM:-0400
TZOFFSETTO:-0300
TZNAME:ADT
DTSTART:20240310T060000
END:DAYLIGHT
BEGIN:STANDARD
TZOFFSETFROM:-0300
TZOFFSETTO:-0400
TZNAME:AST
DTSTART:20241103T050000
END:STANDARD
END:VTIMEZONE
BEGIN:VEVENT
DTSTART;TZID=America/Halifax:20231026T190000
DTEND;TZID=America/Halifax:20231026T200000
DTSTAMP:20260424T072753
CREATED:20230729T200744Z
LAST-MODIFIED:20230729T200744Z
UID:8804-1698346800-1698350400@esimard.com
SUMMARY:Les approches naturelles pour la ménopause. Véronique Bourbeau NDA.
DESCRIPTION:Quand on parle de ménopause\, tout le monde pense aux bouffées de chaleur\, et ce\, avec raison. Les études récentes nous montrent que certains symptômes peuvent aussi représentés des facteurs de risques liés à certaines maladies. Saviez vous que certains suppléments agissent sur un grand nombre de ces symptômes ? \nLa variabilité des symptômes\, autant en termes d’intensité que de fréquence\, s’explique par la génétique mais surtout par les habitudes de vie. Nous pouvons donc agir sur ces manifestations désagréables! Parmi les principaux facteurs qui modifient les niveaux hormonaux journaliers\, nous retrouvons : \n\nla qualité du sommeil\nl’alimentation\nla charge toxique environnementale\nle niveau d’activité physique\nla gestion du stress et de l’anxiété.\n\nC’est donc dire que toutes les facettes des saines habitudes de vie influencent la production hormonale. Si celles-ci ne sont pas suffisantes pour rétablir la situation\, certains suppléments peuvent surement aider. \nDurant cette conférence\, Véronique Bourbeau\, naturopathe agréée\, herboriste clinicienne et collaboratrice au blogue de Vitoli (https://vitoli.ca/blogue/)\, vous présentera les dernières connaissances sur les approches naturelles pouvant être considérées. Quel sont les extraits de plantes ayant le plus de démonstrations scientifiques ? Sur quels symptômes ils agissent ? Est-ce efficace et sécuritaire ? Quelles autres facettes sont aussi à considérer? \nMadame Bourbeau collabore avec Dre Lyne Desautels. Ensembles\, elles assurent la formation en santé hormonale auprès du grand public et des professionnels de santé. Elles ont créé la plateforme  »Ma Santé Mes Hormones » qui fut présentée le 6 avril dernier (https://www.masantemeshormones.com/). \nElle sera accompagnée d’Eric Simard\, docteur en biologie et chercheur (www.esimard.com) pour l’aider à répondre à vos questions.
URL:https://esimard.com/horaire/les-approches-naturelles-pour-la-menopause-veronique-bourbeau-nda/
END:VEVENT
END:VCALENDAR