BEGIN:VCALENDAR
VERSION:2.0
PRODID:-//Priorité bien vieillir - Eric Simard - ECPv6.15.20//NONSGML v1.0//EN
CALSCALE:GREGORIAN
METHOD:PUBLISH
X-ORIGINAL-URL:https://esimard.com
X-WR-CALDESC:Évènements pour Priorité bien vieillir - Eric Simard
REFRESH-INTERVAL;VALUE=DURATION:PT1H
X-Robots-Tag:noindex
X-PUBLISHED-TTL:PT1H
BEGIN:VTIMEZONE
TZID:America/Halifax
BEGIN:DAYLIGHT
TZOFFSETFROM:-0400
TZOFFSETTO:-0300
TZNAME:ADT
DTSTART:20220313T060000
END:DAYLIGHT
BEGIN:STANDARD
TZOFFSETFROM:-0300
TZOFFSETTO:-0400
TZNAME:AST
DTSTART:20221106T050000
END:STANDARD
BEGIN:DAYLIGHT
TZOFFSETFROM:-0400
TZOFFSETTO:-0300
TZNAME:ADT
DTSTART:20230312T060000
END:DAYLIGHT
BEGIN:STANDARD
TZOFFSETFROM:-0300
TZOFFSETTO:-0400
TZNAME:AST
DTSTART:20231105T050000
END:STANDARD
BEGIN:DAYLIGHT
TZOFFSETFROM:-0400
TZOFFSETTO:-0300
TZNAME:ADT
DTSTART:20240310T060000
END:DAYLIGHT
BEGIN:STANDARD
TZOFFSETFROM:-0300
TZOFFSETTO:-0400
TZNAME:AST
DTSTART:20241103T050000
END:STANDARD
END:VTIMEZONE
BEGIN:VEVENT
DTSTART;TZID=America/Halifax:20231116T190000
DTEND;TZID=America/Halifax:20231116T200000
DTSTAMP:20260424T051549
CREATED:20230729T201616Z
LAST-MODIFIED:20230729T201616Z
UID:8820-1700161200-1700164800@esimard.com
SUMMARY:Isabelle Huot: Épicerie 101: l'ABC des étiquettes et listes d'ingrédients\, allégations nutritionnelles de Santé Canada\, nouvelle réglementation (en vigueur en décembre 2023).
DESCRIPTION:Isabelle Huot\, docteure en nutrition très connue nous parlera cette fois-ci des étiquettes des produits\, en regard avec la nouvelle réglementation canadienne qui entrera en vigueur en décembre 2023. \nIl est déjà difficile de s’y retrouver quand on parle d’informations nutritionnelles et les étiquettes des produits sont bien sûr un outils extrêmement utiles afin de s’y retrouver. Santé Canada s’apprête à mettre de nouvelle règles en place qui permettront de donner encore plus d’information sur les étiquettes . Il s’agit\, par exemple\, de la quantité en mg de certaines vitamines ou minéraux\, ce qui permettra de fait un parallèle plus facile avec les autres sources alimentaires. \nCette conférence vous permettra de mieux utiliser les informations nutritionnelles présentes sur les aliments et surtout\, de mieux les interpréter pour faire des choix éclairés. \nComme à l’habitude\, Isabelle Huot sera disponible pour répondre à toutes vos questions et Eric Simard\, docteur en biologie et chercheur (www.esimard.com) sera aussi présent pour l’aider à vous répondre.
URL:https://esimard.com/horaire/isabelle-huot-epicerie-101-labc-des-etiquettes-et-listes-dingredients-allegations-nutritionnelles-de-sante-canada-nouvelle-reglementation-en-vigueur-en-decembre-2023/
END:VEVENT
END:VCALENDAR