BEGIN:VCALENDAR
VERSION:2.0
PRODID:-//Priorité bien vieillir - Eric Simard - ECPv6.15.20//NONSGML v1.0//EN
CALSCALE:GREGORIAN
METHOD:PUBLISH
X-ORIGINAL-URL:https://esimard.com
X-WR-CALDESC:Évènements pour Priorité bien vieillir - Eric Simard
REFRESH-INTERVAL;VALUE=DURATION:PT1H
X-Robots-Tag:noindex
X-PUBLISHED-TTL:PT1H
BEGIN:VTIMEZONE
TZID:America/Halifax
BEGIN:DAYLIGHT
TZOFFSETFROM:-0400
TZOFFSETTO:-0300
TZNAME:ADT
DTSTART:20230312T060000
END:DAYLIGHT
BEGIN:STANDARD
TZOFFSETFROM:-0300
TZOFFSETTO:-0400
TZNAME:AST
DTSTART:20231105T050000
END:STANDARD
BEGIN:DAYLIGHT
TZOFFSETFROM:-0400
TZOFFSETTO:-0300
TZNAME:ADT
DTSTART:20240310T060000
END:DAYLIGHT
BEGIN:STANDARD
TZOFFSETFROM:-0300
TZOFFSETTO:-0400
TZNAME:AST
DTSTART:20241103T050000
END:STANDARD
BEGIN:DAYLIGHT
TZOFFSETFROM:-0400
TZOFFSETTO:-0300
TZNAME:ADT
DTSTART:20250309T060000
END:DAYLIGHT
BEGIN:STANDARD
TZOFFSETFROM:-0300
TZOFFSETTO:-0400
TZNAME:AST
DTSTART:20251102T050000
END:STANDARD
END:VTIMEZONE
BEGIN:VEVENT
DTSTART;TZID=America/Halifax:20240328T190000
DTEND;TZID=America/Halifax:20240328T200000
DTSTAMP:20260424T133812
CREATED:20231217T212828Z
LAST-MODIFIED:20231217T212828Z
UID:8879-1711652400-1711656000@esimard.com
SUMMARY:Douleurs\, digestion\, eczéma\, anxiété et fatigue : et si c’était relié aux bactéries de votre intestin. Dino Halikas\, NDA.
DESCRIPTION:Vous avez peut-être entendu parler de dysbiose du microbiote intestinal ? De SIBO (Small intestinal bacterial overgrowth) ou de SIMO (Small intestinal methanogen overgrowth)? Ou encore du syndrome de l’intestin irritable (SII ou IBS)? \nLes données scientifiques s’accumulent sur les impacts d’un déséquilibre du microbiote intestinal sur tout le corps humain et la caractérisation des désordres observés (déséquilibres ou dysbioses) permet de mieux les relier à des symptômes perçus ou à des problèmes de santé. \nLes causes sont de plus en plus connues :\n– Une faible acidité gastrique\n– Une dysbiose\n– Des problèmes de digestion\n– La prise de certains médicaments\n– Des problèmes immunitaires\n– Des facteurs reliés à une opération ou des problèmes physiologiques \nCette conférence décrira les symptômes fréquents reliés aux différents types de dysbioses\, comment elles sont diagnostiquées et quelles pistes de solution peuvent être mise en application pour rétablir la situation. \nDino Halikas fait parti de cette nouvelle mouvance de naturopathes ayant une solide base en science de la vie et voulant redonner ses lettres de noblesse à une profession pouvant répondre à nos besoins en matière de maladies chroniques et de prévention. Il est président de l’association des naturopathes agréés du Québec (ANAQ) dont le mandat est de regrouper les naturopathes québécois ayant la meilleure formation afin d’obtenir un statut professionnel comme c’est le cas dans six provinces canadiennes\, 25 états américains et plusieurs autres pays dans le monde. Monsieur Halikas est aussi un collaborateur du blogue de Vitoli et un administrateur de l’Association professionnelle pour la santé intégrative. Eric Simard\, docteur en biologie et chercheur (www.esimard.com) sera présent pour l’aider à répondre à vos questions.
URL:https://esimard.com/horaire/douleurs-digestion-eczema-anxiete-et-fatigue-et-si-cetait-relie-aux-bacteries-de-votre-intestin-dino-halikas-nda/
END:VEVENT
END:VCALENDAR