BEGIN:VCALENDAR
VERSION:2.0
PRODID:-//Priorité bien vieillir - Eric Simard - ECPv6.15.20//NONSGML v1.0//EN
CALSCALE:GREGORIAN
METHOD:PUBLISH
X-WR-CALNAME:Priorité bien vieillir - Eric Simard
X-ORIGINAL-URL:https://esimard.com
X-WR-CALDESC:Évènements pour Priorité bien vieillir - Eric Simard
REFRESH-INTERVAL;VALUE=DURATION:PT1H
X-Robots-Tag:noindex
X-PUBLISHED-TTL:PT1H
BEGIN:VTIMEZONE
TZID:America/Halifax
BEGIN:DAYLIGHT
TZOFFSETFROM:-0400
TZOFFSETTO:-0300
TZNAME:ADT
DTSTART:20230312T060000
END:DAYLIGHT
BEGIN:STANDARD
TZOFFSETFROM:-0300
TZOFFSETTO:-0400
TZNAME:AST
DTSTART:20231105T050000
END:STANDARD
BEGIN:DAYLIGHT
TZOFFSETFROM:-0400
TZOFFSETTO:-0300
TZNAME:ADT
DTSTART:20240310T060000
END:DAYLIGHT
BEGIN:STANDARD
TZOFFSETFROM:-0300
TZOFFSETTO:-0400
TZNAME:AST
DTSTART:20241103T050000
END:STANDARD
BEGIN:DAYLIGHT
TZOFFSETFROM:-0400
TZOFFSETTO:-0300
TZNAME:ADT
DTSTART:20250309T060000
END:DAYLIGHT
BEGIN:STANDARD
TZOFFSETFROM:-0300
TZOFFSETTO:-0400
TZNAME:AST
DTSTART:20251102T050000
END:STANDARD
END:VTIMEZONE
BEGIN:VEVENT
DTSTART;TZID=America/Halifax:20240307T190000
DTEND;TZID=America/Halifax:20240307T200000
DTSTAMP:20260424T113447
CREATED:20231217T212518Z
LAST-MODIFIED:20231217T212518Z
UID:8870-1709838000-1709841600@esimard.com
SUMMARY:Problèmes de poids : et si c’était une dépendance alimentaire? Dr Nathaël Leduc Arbour\, MD.
DESCRIPTION:Durant mes 15 ans de pratique comme médecin de famille au Québec\, je me suis souvent sentie impuissante à aider les gens avec un problème de poids ou une relation malsaine avec la nourriture. J’ai vu énormément de détresse et de honte liés à cela. J’ai aussi dû accompagner mes patients dans la détérioration de leur santé à cause de ce surpoids poids ou de la mauvaise alimentation : diabète\, hypertension\, maladies cardiaques et plein d’autres conséquences désastreuses. Moi-même aux prises avec une obésité de plus en plus sévère\, je n’arrivais tout simplement pas à maintenir les acquis à long terme. Jusqu’au jour où je suis tombée sur un livre qui décrivait la relation addictive avec la nourriture de certaines personnes. Et c’est là que ma vie a commencé à changer. Quelques années plus tard\, en paix avec mon corps et la nourriture et plus de 100 livres de perdues\, je me lance dans une mission: soutenir les gens qui souffrent d’une dépendance alimentaire et rendre accessible en français un traitement éprouvé\, holistique et durable de cette maladie chronique du cerveau. \n‘’Après avoir aidé les femmes à mettre leurs enfants au monde pendant 15 ans\, je veux maintenant aider les gens à se mettre eux-mêmes au monde!’’ Dre Nathaël Leduc Arbour. Médecin de famille et fondatrice de Liberté alimentaire (https://libertealimentaire.com/)\, Dr Leduc Arbour a développé des compétences en accompagnement de ses patients vivant avec une obésité et ses conséquences sur la santé physique et mentale que cela entraînait suite à son propre combat contre une obésité morbide depuis la jeune vingtaine. C’est seulement avec le soutien d’un programme de traitement de la dépendance alimentaire qu’elle a finalement pu perdre plus de 100 livres et surtout\, sortir du combat contre elle-même et trouver une sérénité durable. Ça a complètement transformé sa vie. \nElle sera accompagnée d’Éric Simard\, docteur en biologie et chercheur (www.esimard.com)\, pour l’aider à répondre à toutes vos questions.
URL:https://esimard.com/horaire/problemes-de-poids-et-si-cetait-une-dependance-alimentaire-dr-nathael-leduc-arbour-md/
END:VEVENT
BEGIN:VEVENT
DTSTART;TZID=America/Halifax:20240314T190000
DTEND;TZID=America/Halifax:20240314T200000
DTSTAMP:20260424T113447
CREATED:20231217T212618Z
LAST-MODIFIED:20231217T212618Z
UID:8873-1710442800-1710446400@esimard.com
SUMMARY:Le microbiote intestinal : le cœur de la santé globale. Andréanne Martin
DESCRIPTION:S’il y a un sujet qui fait couler beaucoup d’encre dans le domaine scientifique depuis quelques années\, ce sont bien ces milliards de micro-organismes qui habitent notre intestin. \nÀ travers une conférence qui permet de mettre en lumière les associations et corrélations vues à ce jour entre la santé globale et le microbiote intestinal\, des outils et conseils nutritionnels concrets vous seront partagés dans le but de modifier vos habitudes de vie en fonction de ce que l’on connaît jusqu’à maintenant sur cette science fascinante. Plusieurs tests et analyses existent pour cartographier le microbiote d’un individu. \nAndréanne Martin est une leader visionnaire en microbiote intestinal sur le marché québécois et bientôt\, nord-américain. Conférencière et auteure de best-sellers\, elle est passionnée par le grand pouvoir de l’infiniment petit. Scientifique personnalité publique\, elle est une marque en soi reconnue pour sa force de vulgarisation. \nElle sera accompagnée d’Eric Simard\, docteur en biologie et chercheur (www.esimard.com) pour l’aider à répondre à vos questions.
URL:https://esimard.com/horaire/le-microbiote-intestinal-le-coeur-de-la-sante-globale-andreanne-martin/
END:VEVENT
BEGIN:VEVENT
DTSTART;TZID=America/Halifax:20240321T190000
DTEND;TZID=America/Halifax:20240321T200000
DTSTAMP:20260424T113447
CREATED:20231217T212726Z
LAST-MODIFIED:20231217T212726Z
UID:8876-1711047600-1711051200@esimard.com
SUMMARY:Ton médecin ne te guérira pas. Sébastien Perron\, MD\, Interniste.
DESCRIPTION:Entretien avec Sébastien Perron au sujet de son livre. Sébastien Perron est un jeune médecin dynamique\, spécialiste en médecine interne qui pratique depuis 15 ans. Chargé d’enseignement clinique à l’Université de Montréal\, il est également un conférencier\, reconnu pour son sens de l’humour\, son franc-parler et ses aptitudes exceptionnelles à vulgariser les concepts les plus complexes. \nLa médecine nous permet de vivre plus vieux qu’avant\, mais pas nécessairement moins malades. Comment vivre plus longtemps sans traîner des maladies chroniques comme des boulets jusqu’à notre dernier souffle? \nContrairement à la croyance populaire\, la plupart des maladies ne peuvent pas être guéries. Bref\, quand le diagnostic tombe\, il accompagne le malade jusqu’à la fin de ses jours – tout comme les pilules qui viennent avec! Pourtant\, les problèmes de santé chroniques qui nous empoisonnent l’existence étaient quasi inexistants il y a moins d’un siècle. Qu’est-ce qui a changé? \nCette conférence sous forme d’entretien vous permettra de découvrir le médecin derrière ce livre\, mais surtout\, l’homme qui dit avec passion qu’il faut agir bien avant d’entendre parler de maladie. Il sera disponible pour vos questions.
URL:https://esimard.com/horaire/ton-medecin-ne-te-guerira-pas-sebastien-perron-md-interniste/
END:VEVENT
BEGIN:VEVENT
DTSTART;TZID=America/Halifax:20240328T190000
DTEND;TZID=America/Halifax:20240328T200000
DTSTAMP:20260424T113447
CREATED:20231217T212828Z
LAST-MODIFIED:20231217T212828Z
UID:8879-1711652400-1711656000@esimard.com
SUMMARY:Douleurs\, digestion\, eczéma\, anxiété et fatigue : et si c’était relié aux bactéries de votre intestin. Dino Halikas\, NDA.
DESCRIPTION:Vous avez peut-être entendu parler de dysbiose du microbiote intestinal ? De SIBO (Small intestinal bacterial overgrowth) ou de SIMO (Small intestinal methanogen overgrowth)? Ou encore du syndrome de l’intestin irritable (SII ou IBS)? \nLes données scientifiques s’accumulent sur les impacts d’un déséquilibre du microbiote intestinal sur tout le corps humain et la caractérisation des désordres observés (déséquilibres ou dysbioses) permet de mieux les relier à des symptômes perçus ou à des problèmes de santé. \nLes causes sont de plus en plus connues :\n– Une faible acidité gastrique\n– Une dysbiose\n– Des problèmes de digestion\n– La prise de certains médicaments\n– Des problèmes immunitaires\n– Des facteurs reliés à une opération ou des problèmes physiologiques \nCette conférence décrira les symptômes fréquents reliés aux différents types de dysbioses\, comment elles sont diagnostiquées et quelles pistes de solution peuvent être mise en application pour rétablir la situation. \nDino Halikas fait parti de cette nouvelle mouvance de naturopathes ayant une solide base en science de la vie et voulant redonner ses lettres de noblesse à une profession pouvant répondre à nos besoins en matière de maladies chroniques et de prévention. Il est président de l’association des naturopathes agréés du Québec (ANAQ) dont le mandat est de regrouper les naturopathes québécois ayant la meilleure formation afin d’obtenir un statut professionnel comme c’est le cas dans six provinces canadiennes\, 25 états américains et plusieurs autres pays dans le monde. Monsieur Halikas est aussi un collaborateur du blogue de Vitoli et un administrateur de l’Association professionnelle pour la santé intégrative. Eric Simard\, docteur en biologie et chercheur (www.esimard.com) sera présent pour l’aider à répondre à vos questions.
URL:https://esimard.com/horaire/douleurs-digestion-eczema-anxiete-et-fatigue-et-si-cetait-relie-aux-bacteries-de-votre-intestin-dino-halikas-nda/
END:VEVENT
END:VCALENDAR